BEGIN:VCALENDAR
VERSION:2.0
PRODID:-// - ECPv6.15.20//NONSGML v1.0//EN
CALSCALE:GREGORIAN
METHOD:PUBLISH
X-ORIGINAL-URL:https://tatianahyde.com
X-WR-CALDESC:Events for 
REFRESH-INTERVAL;VALUE=DURATION:PT1H
X-Robots-Tag:noindex
X-PUBLISHED-TTL:PT1H
BEGIN:VTIMEZONE
TZID:America/Toronto
BEGIN:DAYLIGHT
TZOFFSETFROM:-0500
TZOFFSETTO:-0400
TZNAME:EDT
DTSTART:20200308T070000
END:DAYLIGHT
BEGIN:STANDARD
TZOFFSETFROM:-0400
TZOFFSETTO:-0500
TZNAME:EST
DTSTART:20201101T060000
END:STANDARD
BEGIN:DAYLIGHT
TZOFFSETFROM:-0500
TZOFFSETTO:-0400
TZNAME:EDT
DTSTART:20210314T070000
END:DAYLIGHT
BEGIN:STANDARD
TZOFFSETFROM:-0400
TZOFFSETTO:-0500
TZNAME:EST
DTSTART:20211107T060000
END:STANDARD
BEGIN:DAYLIGHT
TZOFFSETFROM:-0500
TZOFFSETTO:-0400
TZNAME:EDT
DTSTART:20220313T070000
END:DAYLIGHT
BEGIN:STANDARD
TZOFFSETFROM:-0400
TZOFFSETTO:-0500
TZNAME:EST
DTSTART:20221106T060000
END:STANDARD
BEGIN:DAYLIGHT
TZOFFSETFROM:-0500
TZOFFSETTO:-0400
TZNAME:EDT
DTSTART:20230312T070000
END:DAYLIGHT
BEGIN:STANDARD
TZOFFSETFROM:-0400
TZOFFSETTO:-0500
TZNAME:EST
DTSTART:20231105T060000
END:STANDARD
BEGIN:DAYLIGHT
TZOFFSETFROM:-0500
TZOFFSETTO:-0400
TZNAME:EDT
DTSTART:20240310T070000
END:DAYLIGHT
BEGIN:STANDARD
TZOFFSETFROM:-0400
TZOFFSETTO:-0500
TZNAME:EST
DTSTART:20241103T060000
END:STANDARD
BEGIN:DAYLIGHT
TZOFFSETFROM:-0500
TZOFFSETTO:-0400
TZNAME:EDT
DTSTART:20250309T070000
END:DAYLIGHT
BEGIN:STANDARD
TZOFFSETFROM:-0400
TZOFFSETTO:-0500
TZNAME:EST
DTSTART:20251102T060000
END:STANDARD
BEGIN:DAYLIGHT
TZOFFSETFROM:-0500
TZOFFSETTO:-0400
TZNAME:EDT
DTSTART:20260308T070000
END:DAYLIGHT
BEGIN:STANDARD
TZOFFSETFROM:-0400
TZOFFSETTO:-0500
TZNAME:EST
DTSTART:20261101T060000
END:STANDARD
END:VTIMEZONE
BEGIN:VTIMEZONE
TZID:UTC
BEGIN:STANDARD
TZOFFSETFROM:+0000
TZOFFSETTO:+0000
TZNAME:UTC
DTSTART:20170101T000000
END:STANDARD
END:VTIMEZONE
BEGIN:VEVENT
DTSTART;TZID=America/Toronto:20250918T093000
DTEND;TZID=America/Toronto:20250918T103000
DTSTAMP:20260423T134027
CREATED:20250825T175335Z
LAST-MODIFIED:20250825T175913Z
UID:900-1758187800-1758191400@tatianahyde.com
SUMMARY:Yoga 💙
DESCRIPTION:This is an excellent opportunity to stretch and strengthen while improving posture\, body awareness and self-confidence. Yoga helps to improve balance and reduce stress by increasing the ability to stay focused and calm. \n\n\n\n◾ Registration is required. Visit richmondhill.ca for details
URL:https://tatianahyde.com/calendar/yoga/
LOCATION:Ed Sackfield Fitness Center\, 311 Valleymede Drive\, Richmond Hill\, Ontario\, L4B 2E1\, Canada
END:VEVENT
BEGIN:VEVENT
DTSTART;TZID=America/Toronto:20250911T093000
DTEND;TZID=America/Toronto:20250911T103000
DTSTAMP:20260423T134027
CREATED:20250205T175111Z
LAST-MODIFIED:20250825T175721Z
UID:405-1757583000-1757586600@tatianahyde.com
SUMMARY:Yoga 💙
DESCRIPTION:This is an excellent opportunity to stretch and strengthen while improving posture\, body awareness and self-confidence. Yoga helps to improve balance and reduce stress by increasing the ability to stay focused and calm. \n\n\n\n◾ Registration is required. Visit richmondhill.ca for details
URL:https://tatianahyde.com/calendar/yoga-3/
LOCATION:Ed Sackfield Fitness Center\, 311 Valleymede Drive\, Richmond Hill\, Ontario\, L4B 2E1\, Canada
ATTACH;FMTTYPE=image/jpeg:https://tatianahyde.com/wp-content/uploads/2024/02/Linkedin-Post-Yoga-December-13-2022-copy.jpg
END:VEVENT
BEGIN:VEVENT
DTSTART;TZID=America/Toronto:20250208T090000
DTEND;TZID=America/Toronto:20250208T100000
DTSTAMP:20260423T134027
CREATED:20250205T180025Z
LAST-MODIFIED:20250205T181305Z
UID:549-1739005200-1739008800@tatianahyde.com
SUMMARY:Piloga Fusion 🧡
DESCRIPTION:Piloga Fusion is a full body workout that involves all muscle groups and blends Pilates exercises and Yoga poses with strength training. Piloga Fusion will increase your energy level and muscle strength\, give you a boost in flexibility and endurance\, while also teaching you to relax\, focus\, and keep your mind and body constantly challenged!
URL:https://tatianahyde.com/calendar/549/
LOCATION:Elgin West Community Center\, 11099 Bathurst St\, Richmond Hill\, Ontario\, L4C 0N2\, Canada
ATTACH;FMTTYPE=image/jpeg:https://tatianahyde.com/wp-content/uploads/2021/07/Yoga-Fusion.jpg
END:VEVENT
BEGIN:VEVENT
DTSTART;TZID=America/Toronto:20250206T194500
DTEND;TZID=America/Toronto:20250206T204500
DTSTAMP:20260423T134027
CREATED:20250205T175732Z
LAST-MODIFIED:20250205T181157Z
UID:544-1738871100-1738874700@tatianahyde.com
SUMMARY:Yoga 💙
DESCRIPTION:This is an excellent opportunity to stretch and strengthen while improving posture\, body awareness and self-confidence. Yoga helps to improve balance and reduce stress by increasing the ability to stay focused and calm. \n\n\n\n◾ Registration is required. Visit richmondhill.ca for details
URL:https://tatianahyde.com/calendar/yoga-%f0%9f%92%99-4/
LOCATION:Elgin West Community Center\, 11099 Bathurst St\, Richmond Hill\, Ontario\, L4C 0N2\, Canada
END:VEVENT
BEGIN:VEVENT
DTSTART;TZID=America/Toronto:20250206T093000
DTEND;TZID=America/Toronto:20250206T103000
DTSTAMP:20260423T134027
CREATED:20250205T181459Z
LAST-MODIFIED:20250205T181501Z
UID:517-1738834200-1738837800@tatianahyde.com
SUMMARY:Yoga 💙
DESCRIPTION:This is an excellent opportunity to stretch and strengthen while improving posture\, body awareness and self-confidence. Yoga helps to improve balance and reduce stress by increasing the ability to stay focused and calm. \n\n\n\n◾ Registration is required. Visit richmondhill.ca for details
URL:https://tatianahyde.com/calendar/yoga-%f0%9f%92%99-3/
LOCATION:Ed Sackfield Fitness Center\, 311 Valleymede Drive\, Richmond Hill\, Ontario\, L4B 2E1\, Canada
ATTACH;FMTTYPE=image/jpeg:https://tatianahyde.com/wp-content/uploads/2024/02/Linkedin-Post-Yoga-December-13-2022-copy.jpg
END:VEVENT
BEGIN:VEVENT
DTSTART;TZID=America/Toronto:20240218T104500
DTEND;TZID=America/Toronto:20240218T114500
DTSTAMP:20260423T134027
CREATED:20240216T172736Z
LAST-MODIFIED:20240216T173401Z
UID:407-1708253100-1708256700@tatianahyde.com
SUMMARY:Family Yoga 🙂✨
DESCRIPTION:This class is a chance for parents to bond with their children in a healthy\, non-competitive environment. Yoga is excellent for reducing stress\, while increasing strength\, flexibility\, concentration and balance. Come and enjoy this fun time together 🙂 \n\n\n\n◾ Registration is required. Visit richmondhill.ca for details
URL:https://tatianahyde.com/calendar/family-yoga-%f0%9f%99%82%e2%9c%a8/
LOCATION:Ontario
ATTACH;FMTTYPE=image/jpeg:https://tatianahyde.com/wp-content/uploads/2024/02/Family-Yoga.jpg
END:VEVENT
BEGIN:VEVENT
DTSTART;TZID=America/Toronto:20240217T090000
DTEND;TZID=America/Toronto:20240217T100000
DTSTAMP:20260423T134027
CREATED:20240216T165651Z
LAST-MODIFIED:20250205T180836Z
UID:396-1708160400-1708164000@tatianahyde.com
SUMMARY:Piloga Fusion
DESCRIPTION:Piloga Fusion is a full body workout that involves all muscle groups and blends Pilates exercises and Yoga poses with strength training. Piloga Fusion will increase your energy level and muscle strength\, give you a boost in flexibility and endurance\, while also teaching you to relax\, focus\, and keep your mind and body constantly challenged!
URL:https://tatianahyde.com/calendar/piloga-fusion-2/
LOCATION:Elgin West Community Center\, 11099 Bathurst St\, Richmond Hill\, Ontario\, L4C 0N2\, Canada
ATTACH;FMTTYPE=image/jpeg:https://tatianahyde.com/wp-content/uploads/2021/07/Yoga-Fusion.jpg
END:VEVENT
BEGIN:VEVENT
DTSTART;TZID=America/Toronto:20240211T093000
DTEND;TZID=America/Toronto:20240211T103000
DTSTAMP:20260423T134027
CREATED:20240209T212156Z
LAST-MODIFIED:20240209T214310Z
UID:358-1707643800-1707647400@tatianahyde.com
SUMMARY:Yoga 💙
DESCRIPTION:This is an excellent opportunity to stretch and strengthen while improving posture\, body awareness and self-confidence. Yoga helps to improve balance and reduce stress by increasing the ability to stay focused and calm. \n\n\n\n◾ Registration is required. Visit richmondhill.ca for details
URL:https://tatianahyde.com/calendar/yoga-%f0%9f%92%99/
LOCATION:Ontario
ATTACH;FMTTYPE=image/jpeg:https://tatianahyde.com/wp-content/uploads/2024/02/Linkedin-Post-Yoga-December-13-2022-copy.jpg
END:VEVENT
BEGIN:VEVENT
DTSTART;TZID=America/Toronto:20240210T090000
DTEND;TZID=America/Toronto:20240210T100000
DTSTAMP:20260423T134027
CREATED:20240209T210530Z
LAST-MODIFIED:20240209T210531Z
UID:354-1707555600-1707559200@tatianahyde.com
SUMMARY:Piloga Fusion
DESCRIPTION:Piloga Fusion is a full body workout that involves all muscle groups and blends Pilates exercises and Yoga poses with strength training. Piloga Fusion will increase your energy level and muscle strength\, give you a boost in flexibility and endurance\, while also teaching you to relax\, focus\, and keep your mind and body constantly challenged!
URL:https://tatianahyde.com/calendar/piloga-fusion/
LOCATION:Ontario
ATTACH;FMTTYPE=image/jpeg:https://tatianahyde.com/wp-content/uploads/2021/07/Yoga-Fusion.jpg
END:VEVENT
BEGIN:VEVENT
DTSTART;TZID=America/Toronto:20210922T200000
DTEND;TZID=America/Toronto:20210922T210000
DTSTAMP:20260423T134027
CREATED:20210918T173044Z
LAST-MODIFIED:20240209T205410Z
UID:278-1632340800-1632344400@tatianahyde.com
SUMMARY:Gentle Yoga Flow for a Good Night's Sleep
DESCRIPTION:
URL:https://tatianahyde.com/calendar/gentle-yoga-flow-for-a-good-nights-sleep/
LOCATION:online on Zoom
END:VEVENT
BEGIN:VEVENT
DTSTART;TZID=UTC:20181106T080000
DTEND;TZID=UTC:20181106T170000
DTSTAMP:20260423T134027
CREATED:20181029T213615Z
LAST-MODIFIED:20240216T170726Z
UID:86-1541491200-1541523600@tatianahyde.com
SUMMARY:Zumba class
DESCRIPTION:
URL:https://tatianahyde.com/calendar/zumba-class/
LOCATION:Ontario
END:VEVENT
END:VCALENDAR